BEGIN:VCALENDAR
VERSION:2.0
PRODID:-//Kiwanis - ECPv5.16.4//NONSGML v1.0//EN
CALSCALE:GREGORIAN
METHOD:PUBLISH
X-ORIGINAL-URL:https://webkrea.kiwanisbelux.site/nl/
X-WR-CALDESC:Evenementen voor Kiwanis
REFRESH-INTERVAL;VALUE=DURATION:PT1H
X-Robots-Tag:noindex
X-PUBLISHED-TTL:PT1H
BEGIN:VTIMEZONE
TZID:Europe/Brussels
BEGIN:DAYLIGHT
TZOFFSETFROM:+0100
TZOFFSETTO:+0200
TZNAME:CEST
DTSTART:20220327T010000
END:DAYLIGHT
BEGIN:STANDARD
TZOFFSETFROM:+0200
TZOFFSETTO:+0100
TZNAME:CET
DTSTART:20221030T010000
END:STANDARD
END:VTIMEZONE
BEGIN:VEVENT
DTSTART;TZID=Europe/Brussels:20221118T180000
DTEND;TZID=Europe/Brussels:20221219T020000
DTSTAMP:20260425T042354
CREATED:20221012T120919Z
LAST-MODIFIED:20221012T120919Z
UID:2348-1668794400-1671415200@webkrea.kiwanisbelux.site
SUMMARY:G-fuif 3° editie Kiwanis Londerzeel - KC Londerzeel
DESCRIPTION:Kiwanis Londerzeel organiseert zijn derde G-fuif\, wat een inclusiefuif is waar zowel gasten uit instellingen als leden van jeugdverenigingen welkom zij. Er zijn tal van optredens voorzien\, o.a. Sam Gooris en Casserole Fermer. Er is een gastenhoek waar tafels ter beschikking zijn voor €500 voor een tafel van 10 personen.
URL:https://webkrea.kiwanisbelux.site/nl/event/g-fuif-3-editie-kiwanis-londerzeel-kc-londerzeel/
LOCATION:Vermahal Londerzeel (Malderen)
END:VEVENT
END:VCALENDAR