BEGIN:VCALENDAR
VERSION:2.0
PRODID:-//Kiwanis - ECPv5.16.4//NONSGML v1.0//EN
CALSCALE:GREGORIAN
METHOD:PUBLISH
X-WR-CALNAME:Kiwanis
X-ORIGINAL-URL:https://webkrea.kiwanisbelux.site/nl/
X-WR-CALDESC:Evenementen voor Kiwanis
REFRESH-INTERVAL;VALUE=DURATION:PT1H
X-Robots-Tag:noindex
X-PUBLISHED-TTL:PT1H
BEGIN:VTIMEZONE
TZID:Europe/Brussels
BEGIN:DAYLIGHT
TZOFFSETFROM:+0100
TZOFFSETTO:+0200
TZNAME:CEST
DTSTART:20220327T010000
END:DAYLIGHT
BEGIN:STANDARD
TZOFFSETFROM:+0200
TZOFFSETTO:+0100
TZNAME:CET
DTSTART:20221030T010000
END:STANDARD
END:VTIMEZONE
BEGIN:VEVENT
DTSTART;TZID=Europe/Brussels:20221103T150000
DTEND;TZID=Europe/Brussels:20221106T170000
DTSTAMP:20260425T132255
CREATED:20221012T115814Z
LAST-MODIFIED:20221012T115814Z
UID:2329-1667487600-1667754000@webkrea.kiwanisbelux.site
SUMMARY:23ste Boekenbeurs - KC Sint-Truiden Haspengouw
DESCRIPTION:Boekenbeurs met meer dan 50.000 tweedehands boeken en vanaf dit jaar ook meer dan 400 vinyl platen\, geschonken door vrijwilligers. Alle boeken zijn gerangschikt volgens bibliotheeksysteem en erg gunstig geprijsd. Ieder vindt er wel een of talloze boeken of platen naar zijn/haar wens.
URL:https://webkrea.kiwanisbelux.site/nl/event/23ste-boekenbeurs-kc-sint-truiden-haspengouw/
LOCATION:Hasp-O Centrum\, Plankstraat 11\, 3800 Sint-Truiden
END:VEVENT
BEGIN:VEVENT
DTSTART;TZID=Europe/Brussels:20221028T200000
DTEND;TZID=Europe/Brussels:20221028T233000
DTSTAMP:20260425T132255
CREATED:20221012T113910Z
LAST-MODIFIED:20221012T115416Z
UID:2307-1666987200-1666999800@webkrea.kiwanisbelux.site
SUMMARY:Comedy Night - KC Brugge Vives
DESCRIPTION:Om 20.00uur. Wie het laatste weekend van Oktober goed en vrolijk wil inzetten moet zeker aanwezig zijn. \n  \n \n 
URL:https://webkrea.kiwanisbelux.site/nl/event/comedy-night-kc-brugge-vives/
LOCATION:Cultuurfabriek\, Stationsstraat 22\, Sijsele\, 8340\, België
END:VEVENT
BEGIN:VEVENT
DTSTART;TZID=Europe/Brussels:20221021T093000
DTEND;TZID=Europe/Brussels:20221022T180000
DTSTAMP:20260425T132255
CREATED:20221011T203709Z
LAST-MODIFIED:20221012T123723Z
UID:2275-1666344600-1666461600@webkrea.kiwanisbelux.site
SUMMARY:1e Districtsraad 2022 – 2023
DESCRIPTION:Download hier het volledige programma \n  \n\n\n  \n\n  \n\n  \n 
URL:https://webkrea.kiwanisbelux.site/nl/event/1e-districtsraad-2022-2023/
LOCATION:Leuven
END:VEVENT
BEGIN:VEVENT
DTSTART;TZID=Europe/Brussels:20221015T193000
DTEND;TZID=Europe/Brussels:20221015T233000
DTSTAMP:20260425T132255
CREATED:20221012T113358Z
LAST-MODIFIED:20221012T115025Z
UID:2303-1665862200-1665876600@webkrea.kiwanisbelux.site
SUMMARY:Avond Mer du Nord - KC Ronse Renaix
DESCRIPTION:Gala annuel du Kiwanis de Renaix au profit de nos actions en faveur des enfants.\nJaarlijkse Gala van de Kiwanis Ronse ten voordele van onze acties voor de kinderen. Cartes en pré-vente chez les membres. Kaarten in voorverkoop bij de leden Prix/Prijs : 50\,- € Apéro & Buffet.
URL:https://webkrea.kiwanisbelux.site/nl/event/avond-mer-du-nord-kc-ronse-renaix/
LOCATION:De Passage\, Sint Martensplein 9\, Ronse\, 9600\, België
END:VEVENT
BEGIN:VEVENT
DTSTART;TZID=Europe/Brussels:20221012T190000
DTEND;TZID=Europe/Brussels:20221012T233000
DTSTAMP:20260425T132255
CREATED:20221012T122634Z
LAST-MODIFIED:20221012T122634Z
UID:2376-1665601200-1665617400@webkrea.kiwanisbelux.site
SUMMARY:Winter Gala - KC Brugge Vives
DESCRIPTION:Save the date” early Christmas Party” om 19.00 uur.
URL:https://webkrea.kiwanisbelux.site/nl/event/winter-gala-kc-brugge-vives/
LOCATION:Belgium Pier Blankenberge
END:VEVENT
BEGIN:VEVENT
DTSTART;TZID=Europe/Brussels:20221012T080000
DTEND;TZID=Europe/Brussels:20221012T170000
DTSTAMP:20260425T132255
CREATED:20221012T114339Z
LAST-MODIFIED:20221012T114925Z
UID:2316-1665561600-1665594000@webkrea.kiwanisbelux.site
SUMMARY:Musical La Femme Fatale - KC Tongeren Ambiorix
DESCRIPTION:De Kiwanis clubs Tongeren Ambiorix\, Tongen Bilzen Amicitia en Hasselt Heilewigis organiseren op zondag 30 oktober 2022 om 17u00 een Musical “La Femme Fatale”.
URL:https://webkrea.kiwanisbelux.site/nl/event/musical-la-femme-fatale-kc-tongeren-ambiorix/
END:VEVENT
END:VCALENDAR