BEGIN:VCALENDAR
VERSION:2.0
PRODID:-//Kiwanis - ECPv5.16.4//NONSGML v1.0//EN
CALSCALE:GREGORIAN
METHOD:PUBLISH
X-ORIGINAL-URL:https://webkrea.kiwanisbelux.site/nl/
X-WR-CALDESC:Evenementen voor Kiwanis
REFRESH-INTERVAL;VALUE=DURATION:PT1H
X-Robots-Tag:noindex
X-PUBLISHED-TTL:PT1H
BEGIN:VTIMEZONE
TZID:Europe/Brussels
BEGIN:DAYLIGHT
TZOFFSETFROM:+0100
TZOFFSETTO:+0200
TZNAME:CEST
DTSTART:20220327T010000
END:DAYLIGHT
BEGIN:STANDARD
TZOFFSETFROM:+0200
TZOFFSETTO:+0100
TZNAME:CET
DTSTART:20221030T010000
END:STANDARD
END:VTIMEZONE
BEGIN:VEVENT
DTSTART;TZID=Europe/Brussels:20221116T200000
DTEND;TZID=Europe/Brussels:20221116T223000
DTSTAMP:20260425T041807
CREATED:20221012T120703Z
LAST-MODIFIED:20221012T120703Z
UID:2339-1668628800-1668637800@webkrea.kiwanisbelux.site
SUMMARY:Film de beentjes van Sint-Hildegard - KC Brugge Gruuthuse
DESCRIPTION:SAVE THE DATE Met trots stellen wij \, de dames van Kiwanis Gruuthuse onze 4de film editie voor ???? Zoals de vorige voorstellingen is deze film opnieuw een topper ???? Wij rekenen op uw steun zodat wij kinderen \, onder de radar\, uit de regio Brugge kunnen blijven helpen ???? en dit onder de KIWANIS vlag ???? ❤️ omdat elk kind telt ❤️ ❤️ kids need Kiwanis ❤️
URL:https://webkrea.kiwanisbelux.site/nl/event/film-de-beentjes-van-sint-hildegard-kc-brugge-gruuthuse/
LOCATION:Cultuurfabriek Sijsele\, Stationsstraat 22\, Sijsele
END:VEVENT
END:VCALENDAR