BEGIN:VCALENDAR
VERSION:2.0
PRODID:-//Kiwanis - ECPv5.16.4//NONSGML v1.0//EN
CALSCALE:GREGORIAN
METHOD:PUBLISH
X-ORIGINAL-URL:https://webkrea.kiwanisbelux.site/nl/
X-WR-CALDESC:Evenementen voor Kiwanis
REFRESH-INTERVAL;VALUE=DURATION:PT1H
X-Robots-Tag:noindex
X-PUBLISHED-TTL:PT1H
BEGIN:VTIMEZONE
TZID:Europe/Brussels
BEGIN:DAYLIGHT
TZOFFSETFROM:+0100
TZOFFSETTO:+0200
TZNAME:CEST
DTSTART:20220327T010000
END:DAYLIGHT
BEGIN:STANDARD
TZOFFSETFROM:+0200
TZOFFSETTO:+0100
TZNAME:CET
DTSTART:20221030T010000
END:STANDARD
END:VTIMEZONE
BEGIN:VEVENT
DTSTART;TZID=Europe/Brussels:20221112T190000
DTEND;TZID=Europe/Brussels:20221112T233000
DTSTAMP:20260425T041806
CREATED:20221012T115953Z
LAST-MODIFIED:20221012T115953Z
UID:2335-1668279600-1668295800@webkrea.kiwanisbelux.site
SUMMARY:Karaoke Night - KC Zandhoven
DESCRIPTION:Met corona was het “positief”. Zonder corona wordt het onvergetelijk…
URL:https://webkrea.kiwanisbelux.site/nl/event/karaoke-night-kc-zandhoven/
LOCATION:De Griffel\, Pulle
END:VEVENT
END:VCALENDAR